BEGIN:VCALENDAR
VERSION:2.0
PRODID:Spatie calendar-links
BEGIN:VEVENT
UID:faa1a131db042fd5ff84e18fbd421e0c
SUMMARY:Jdjsjs
DTSTAMP:20230920T230000Z
DTSTART:20230920T230000Z
DTEND:20230921T000000Z
END:VEVENT
END:VCALENDAR