BEGIN:VCALENDAR
VERSION:2.0
PRODID:Spatie calendar-links
BEGIN:VEVENT
UID:b0098298163fdd5763995da279a4adc6
SUMMARY:test hoff
DTSTAMP:20240405T030000Z
DTSTART:20240405T030000Z
DTEND:20240406T160000Z
LOCATION:1 getreidegasse\, salzburg\, salzburg\, Austria
END:VEVENT
END:VCALENDAR