BEGIN:VCALENDAR
VERSION:2.0
PRODID:Spatie calendar-links
BEGIN:VEVENT
UID:ef2bdbb27f384c3b18165359013952ab
SUMMARY:UNA Developers World Convention
DTSTAMP:20260401T130000Z
DTSTART:20260401T130000Z
DTEND:20360828T000000Z
LOCATION:Thailand
END:VEVENT
END:VCALENDAR