BEGIN:VCALENDAR
VERSION:2.0
PRODID:Spatie calendar-links
BEGIN:VEVENT
UID:e97662e0316d2f9b7cf3a50f0fb99379
SUMMARY:Business show
DTSTAMP:20230912T230000Z
DTSTART:20230912T230000Z
DTEND:20230913T000000Z
END:VEVENT
END:VCALENDAR